BEGIN:VCALENDAR
VERSION:2.0
PRODID:-//SVOBODNA SLOVENIJA - ECPv6.15.20//NONSGML v1.0//EN
CALSCALE:GREGORIAN
METHOD:PUBLISH
X-ORIGINAL-URL:http://svobodnaslovenija.com.ar
X-WR-CALDESC:Dogodki za SVOBODNA SLOVENIJA
REFRESH-INTERVAL;VALUE=DURATION:PT1H
X-Robots-Tag:noindex
X-PUBLISHED-TTL:PT1H
BEGIN:VTIMEZONE
TZID:Asia/Dubai
BEGIN:STANDARD
TZOFFSETFROM:+0400
TZOFFSETTO:+0400
TZNAME:+04
DTSTART:20170101T000000
END:STANDARD
END:VTIMEZONE
BEGIN:VEVENT
DTSTART;TZID=Asia/Dubai:20180818T203000
DTEND;TZID=Asia/Dubai:20180818T203000
DTSTAMP:20260420T011913
CREATED:20180717T013104Z
LAST-MODIFIED:20180720T025409Z
UID:7542-1534624200-1534624200@svobodnaslovenija.com.ar
SUMMARY:Café Concert v Slomškovem domu
DESCRIPTION:Vabita Pevski zbor Ex corde in Slomškov dom.
URL:http://svobodnaslovenija.com.ar/event/cafe-concert-v-slomskovem-domu/
LOCATION:Slomškov dom
END:VEVENT
END:VCALENDAR